BEGIN:VCALENDAR
VERSION:2.0
PRODID:icalendar-ruby
CALSCALE:GREGORIAN
METHOD:PUBLISH
BEGIN:VEVENT
DTSTAMP:20260422T062511Z
UID:7-657210@pinestreetbc.com
DTSTART:20260705T143000Z
DTEND:20260705T153000Z
CLASS:PUBLIC
CREATED:20260421T193330
DESCRIPTION:Bible Study
LAST-MODIFIED:20260421T193330
LOCATION:
SUMMARY:Bible Study
URL;VALUE=URI:https://www.pinestreetbc.com/events/bible-study/2026-07-05
END:VEVENT
END:VCALENDAR
