BEGIN:VCALENDAR
VERSION:2.0
PRODID:icalendar-ruby
CALSCALE:GREGORIAN
METHOD:PUBLISH
BEGIN:VEVENT
DTSTAMP:20260424T081723Z
UID:7-662683@pinestreetbc.com
DTSTART:20260712T143000Z
DTEND:20260712T153000Z
CLASS:PUBLIC
CREATED:20260423T210845
DESCRIPTION:Bible Study
LAST-MODIFIED:20260423T210845
LOCATION:
SUMMARY:Bible Study
URL;VALUE=URI:https://www.pinestreetbc.com/events/bible-study/2026-07-12
END:VEVENT
END:VCALENDAR
