BEGIN:VCALENDAR
VERSION:2.0
PRODID:icalendar-ruby
CALSCALE:GREGORIAN
METHOD:PUBLISH
BEGIN:VEVENT
DTSTAMP:20260422T115338Z
UID:7-657669@pinestreetbc.com
DTSTART:20260726T143000Z
DTEND:20260726T153000Z
CLASS:PUBLIC
CREATED:20260422T063548
DESCRIPTION:Bible Study
LAST-MODIFIED:20260422T063548
LOCATION:
SUMMARY:Bible Study
URL;VALUE=URI:https://www.pinestreetbc.com/events/bible-study/2026-07-26
END:VEVENT
END:VCALENDAR
