BEGIN:VCALENDAR
VERSION:2.0
PRODID:icalendar-ruby
CALSCALE:GREGORIAN
METHOD:PUBLISH
BEGIN:VEVENT
DTSTAMP:20260423T010212Z
UID:7-659500@pinestreetbc.com
DTSTART:20260913T143000Z
DTEND:20260913T153000Z
CLASS:PUBLIC
CREATED:20260422T181346
DESCRIPTION:Bible Study
LAST-MODIFIED:20260422T181346
LOCATION:
SUMMARY:Bible Study
URL;VALUE=URI:https://www.pinestreetbc.com/events/bible-study/2026-09-13
END:VEVENT
END:VCALENDAR
