BEGIN:VCALENDAR
VERSION:2.0
PRODID:icalendar-ruby
CALSCALE:GREGORIAN
METHOD:PUBLISH
BEGIN:VEVENT
DTSTAMP:20260423T123237Z
UID:7-660419@pinestreetbc.com
DTSTART:20261101T153000Z
DTEND:20261101T163000Z
CLASS:PUBLIC
CREATED:20260423T063625
DESCRIPTION:Bible Study
LAST-MODIFIED:20260423T063625
LOCATION:
SUMMARY:Bible Study
URL;VALUE=URI:https://www.pinestreetbc.com/events/bible-study/2026-11-01
END:VEVENT
END:VCALENDAR
